BEGIN:VCALENDAR
VERSION:2.0
PRODID:-//ALSONI - Conseil Élevage - ECPv6.15.20//NONSGML v1.0//EN
CALSCALE:GREGORIAN
METHOD:PUBLISH
X-WR-CALNAME:ALSONI - Conseil Élevage
X-ORIGINAL-URL:https://www.alsoni.fr
X-WR-CALDESC:Évènements pour ALSONI - Conseil Élevage
REFRESH-INTERVAL;VALUE=DURATION:PT1H
X-Robots-Tag:noindex
X-PUBLISHED-TTL:PT1H
BEGIN:VTIMEZONE
TZID:Europe/Paris
BEGIN:DAYLIGHT
TZOFFSETFROM:+0100
TZOFFSETTO:+0200
TZNAME:CEST
DTSTART:20240331T010000
END:DAYLIGHT
BEGIN:STANDARD
TZOFFSETFROM:+0200
TZOFFSETTO:+0100
TZNAME:CET
DTSTART:20241027T010000
END:STANDARD
BEGIN:DAYLIGHT
TZOFFSETFROM:+0100
TZOFFSETTO:+0200
TZNAME:CEST
DTSTART:20250330T010000
END:DAYLIGHT
BEGIN:STANDARD
TZOFFSETFROM:+0200
TZOFFSETTO:+0100
TZNAME:CET
DTSTART:20251026T010000
END:STANDARD
BEGIN:DAYLIGHT
TZOFFSETFROM:+0100
TZOFFSETTO:+0200
TZNAME:CEST
DTSTART:20260329T010000
END:DAYLIGHT
BEGIN:STANDARD
TZOFFSETFROM:+0200
TZOFFSETTO:+0100
TZNAME:CET
DTSTART:20261025T010000
END:STANDARD
END:VTIMEZONE
BEGIN:VEVENT
DTSTART;VALUE=DATE:20250919
DTEND;VALUE=DATE:20250921
DTSTAMP:20260421T143923
CREATED:20250605T093425Z
LAST-MODIFIED:20250605T093425Z
UID:3500-1758240000-1758412799@www.alsoni.fr
SUMMARY:Portes Ouvertes - GAEC STAR 2000
DESCRIPTION:71760 ISSY L’ÉVÈQUE
URL:https://www.alsoni.fr/event/portes-ouvertes-gaec-star-2000-2/
CATEGORIES:PORTES OUVERTES
END:VEVENT
BEGIN:VEVENT
DTSTART;VALUE=DATE:20250919
DTEND;VALUE=DATE:20250922
DTSTAMP:20260421T143923
CREATED:20250605T093304Z
LAST-MODIFIED:20250605T093304Z
UID:3498-1758240000-1758499199@www.alsoni.fr
SUMMARY:Portes Ouvertes - EARL BAUDIN SOPHIE ET FRANÇOIS
DESCRIPTION:71760 ISSY L’ÉVÈQUE
URL:https://www.alsoni.fr/event/portes-ouvertes-earl-baudin-sophie-et-francois/
CATEGORIES:PORTES OUVERTES
END:VEVENT
BEGIN:VEVENT
DTSTART;VALUE=DATE:20250920
DTEND;VALUE=DATE:20250921
DTSTAMP:20260421T143923
CREATED:20250604T131111Z
LAST-MODIFIED:20250604T131111Z
UID:3443-1758326400-1758412799@www.alsoni.fr
SUMMARY:Concours charolais HBC - Autun
DESCRIPTION:71 AUTUN
URL:https://www.alsoni.fr/event/concours-charolais-hbc-autun/
CATEGORIES:CONCOURS
END:VEVENT
END:VCALENDAR