BEGIN:VCALENDAR
VERSION:2.0
PRODID:-//ALSONI - Conseil Élevage - ECPv6.15.20//NONSGML v1.0//EN
CALSCALE:GREGORIAN
METHOD:PUBLISH
X-ORIGINAL-URL:https://www.alsoni.fr
X-WR-CALDESC:Évènements pour ALSONI - Conseil Élevage
REFRESH-INTERVAL;VALUE=DURATION:PT1H
X-Robots-Tag:noindex
X-PUBLISHED-TTL:PT1H
BEGIN:VTIMEZONE
TZID:Europe/Paris
BEGIN:DAYLIGHT
TZOFFSETFROM:+0100
TZOFFSETTO:+0200
TZNAME:CEST
DTSTART:20240331T010000
END:DAYLIGHT
BEGIN:STANDARD
TZOFFSETFROM:+0200
TZOFFSETTO:+0100
TZNAME:CET
DTSTART:20241027T010000
END:STANDARD
BEGIN:DAYLIGHT
TZOFFSETFROM:+0100
TZOFFSETTO:+0200
TZNAME:CEST
DTSTART:20250330T010000
END:DAYLIGHT
BEGIN:STANDARD
TZOFFSETFROM:+0200
TZOFFSETTO:+0100
TZNAME:CET
DTSTART:20251026T010000
END:STANDARD
BEGIN:DAYLIGHT
TZOFFSETFROM:+0100
TZOFFSETTO:+0200
TZNAME:CEST
DTSTART:20260329T010000
END:DAYLIGHT
BEGIN:STANDARD
TZOFFSETFROM:+0200
TZOFFSETTO:+0100
TZNAME:CET
DTSTART:20261025T010000
END:STANDARD
END:VTIMEZONE
BEGIN:VEVENT
DTSTART;VALUE=DATE:20251017
DTEND;VALUE=DATE:20251018
DTSTAMP:20260421T160715
CREATED:20250604T131755Z
LAST-MODIFIED:20250604T131755Z
UID:3453-1760659200-1760745599@www.alsoni.fr
SUMMARY:Concours Charolais HBC
DESCRIPTION:71 GUEUGNON
URL:https://www.alsoni.fr/event/concours-charolais-hbc/
CATEGORIES:CONCOURS
END:VEVENT
BEGIN:VEVENT
DTSTART;VALUE=DATE:20251017
DTEND;VALUE=DATE:20251020
DTSTAMP:20260421T160715
CREATED:20250605T115038Z
LAST-MODIFIED:20250605T115233Z
UID:3526-1760659200-1760918399@www.alsoni.fr
SUMMARY:Portes Ouvertes - EARL MATHIEU GUILLAUME
DESCRIPTION:71520 MONTMELARD
URL:https://www.alsoni.fr/event/portes-ouvertes-earl-mathieu-guillaume-2/
CATEGORIES:PORTES OUVERTES
END:VEVENT
BEGIN:VEVENT
DTSTART;VALUE=DATE:20251017
DTEND;VALUE=DATE:20251020
DTSTAMP:20260421T160715
CREATED:20250605T115150Z
LAST-MODIFIED:20250605T115150Z
UID:3528-1760659200-1760918399@www.alsoni.fr
SUMMARY:Portes Ouvertes - GAEC DE LUCENIER
DESCRIPTION:71130 LA CHAPELLE AU MANS
URL:https://www.alsoni.fr/event/portes-ouvertes-gaec-de-lucenier-2/
CATEGORIES:PORTES OUVERTES
END:VEVENT
BEGIN:VEVENT
DTSTART;VALUE=DATE:20251017
DTEND;VALUE=DATE:20251020
DTSTAMP:20260421T160715
CREATED:20250605T115323Z
LAST-MODIFIED:20250605T115323Z
UID:3531-1760659200-1760918399@www.alsoni.fr
SUMMARY:Portes Ouvertes - GAEC MOREAU
DESCRIPTION:71130 NEUVY GRANDCHAMP
URL:https://www.alsoni.fr/event/portes-ouvertes-gaec-moreau-2/
CATEGORIES:PORTES OUVERTES
END:VEVENT
BEGIN:VEVENT
DTSTART;VALUE=DATE:20251017
DTEND;VALUE=DATE:20251020
DTSTAMP:20260421T160715
CREATED:20250605T115408Z
LAST-MODIFIED:20250605T115408Z
UID:3533-1760659200-1760918399@www.alsoni.fr
SUMMARY:Portes Ouvertes - SOTTY DIDIER
DESCRIPTION:71130 NEUVY GRANDCHAMP
URL:https://www.alsoni.fr/event/portes-ouvertes-sotty-didier-2/
CATEGORIES:PORTES OUVERTES
END:VEVENT
BEGIN:VEVENT
DTSTART;VALUE=DATE:20251017
DTEND;VALUE=DATE:20251020
DTSTAMP:20260421T160715
CREATED:20250605T115458Z
LAST-MODIFIED:20250605T115458Z
UID:3535-1760659200-1760918399@www.alsoni.fr
SUMMARY:Portes Ouvertes - GAEC DE NOLAT
DESCRIPTION:71130 NEUVY GRANDCHAMP
URL:https://www.alsoni.fr/event/portes-ouvertes-gaec-de-nolat-2/
CATEGORIES:PORTES OUVERTES
END:VEVENT
BEGIN:VEVENT
DTSTART;VALUE=DATE:20251017
DTEND;VALUE=DATE:20251020
DTSTAMP:20260421T160715
CREATED:20250605T115620Z
LAST-MODIFIED:20250605T115620Z
UID:3537-1760659200-1760918399@www.alsoni.fr
SUMMARY:Portes Ouvertes - GAEC DES MARÉCHAUX
DESCRIPTION:71130 NEUVY GRANDCHAMP
URL:https://www.alsoni.fr/event/portes-ouvertes-gaec-des-marechaux/
CATEGORIES:PORTES OUVERTES
END:VEVENT
BEGIN:VEVENT
DTSTART;VALUE=DATE:20251017
DTEND;VALUE=DATE:20251020
DTSTAMP:20260421T160715
CREATED:20250605T115713Z
LAST-MODIFIED:20250605T115713Z
UID:3539-1760659200-1760918399@www.alsoni.fr
SUMMARY:Portes Ouvertes - GAEC CERNIN
DESCRIPTION:71130 NEUVY GRANDCHAMP
URL:https://www.alsoni.fr/event/portes-ouvertes-gaec-cernin-2/
CATEGORIES:PORTES OUVERTES
END:VEVENT
END:VCALENDAR