BEGIN:VCALENDAR
VERSION:2.0
PRODID:-//ALSONI - Conseil Élevage - ECPv6.15.20//NONSGML v1.0//EN
CALSCALE:GREGORIAN
METHOD:PUBLISH
X-ORIGINAL-URL:https://www.alsoni.fr
X-WR-CALDESC:Évènements pour ALSONI - Conseil Élevage
REFRESH-INTERVAL;VALUE=DURATION:PT1H
X-Robots-Tag:noindex
X-PUBLISHED-TTL:PT1H
BEGIN:VTIMEZONE
TZID:Europe/Paris
BEGIN:DAYLIGHT
TZOFFSETFROM:+0100
TZOFFSETTO:+0200
TZNAME:CEST
DTSTART:20240331T010000
END:DAYLIGHT
BEGIN:STANDARD
TZOFFSETFROM:+0200
TZOFFSETTO:+0100
TZNAME:CET
DTSTART:20241027T010000
END:STANDARD
BEGIN:DAYLIGHT
TZOFFSETFROM:+0100
TZOFFSETTO:+0200
TZNAME:CEST
DTSTART:20250330T010000
END:DAYLIGHT
BEGIN:STANDARD
TZOFFSETFROM:+0200
TZOFFSETTO:+0100
TZNAME:CET
DTSTART:20251026T010000
END:STANDARD
BEGIN:DAYLIGHT
TZOFFSETFROM:+0100
TZOFFSETTO:+0200
TZNAME:CEST
DTSTART:20260329T010000
END:DAYLIGHT
BEGIN:STANDARD
TZOFFSETFROM:+0200
TZOFFSETTO:+0100
TZNAME:CET
DTSTART:20261025T010000
END:STANDARD
END:VTIMEZONE
BEGIN:VEVENT
DTSTART;VALUE=DATE:20251023
DTEND;VALUE=DATE:20251025
DTSTAMP:20260421T160806
CREATED:20250605T115820Z
LAST-MODIFIED:20250605T115820Z
UID:3541-1761177600-1761350399@www.alsoni.fr
SUMMARY:Portes Ouvertes - EARL TOUILLON JEAN-CHRISTOPHE
DESCRIPTION:71430 PALINGES
URL:https://www.alsoni.fr/event/portes-ouvertes-earl-touillon-jean-christophe/
CATEGORIES:PORTES OUVERTES
END:VEVENT
BEGIN:VEVENT
DTSTART;VALUE=DATE:20251024
DTEND;VALUE=DATE:20251026
DTSTAMP:20260421T160806
CREATED:20250605T115924Z
LAST-MODIFIED:20250605T115924Z
UID:3543-1761264000-1761436799@www.alsoni.fr
SUMMARY:Portes Ouvertes - EARL GIROUX VIRGINIE ET JEAN
DESCRIPTION:71300 SAINT BERAIN SUR SANVIGNES
URL:https://www.alsoni.fr/event/portes-ouvertes-earl-giroux-virginie-et-jean/
CATEGORIES:PORTES OUVERTES
END:VEVENT
BEGIN:VEVENT
DTSTART;VALUE=DATE:20251024
DTEND;VALUE=DATE:20251027
DTSTAMP:20260421T160806
CREATED:20250605T120013Z
LAST-MODIFIED:20250605T120013Z
UID:3545-1761264000-1761523199@www.alsoni.fr
SUMMARY:Portes Ouvertes - GAEC MARÉCHAL
DESCRIPTION:71320 TOULON SUR ARROUX
URL:https://www.alsoni.fr/event/portes-ouvertes-gaec-marechal-3/
CATEGORIES:PORTES OUVERTES
END:VEVENT
BEGIN:VEVENT
DTSTART;VALUE=DATE:20251024
DTEND;VALUE=DATE:20251027
DTSTAMP:20260421T160806
CREATED:20250605T120116Z
LAST-MODIFIED:20250605T120116Z
UID:3547-1761264000-1761523199@www.alsoni.fr
SUMMARY:Portes Ouvertes - GAEC DE BUCHELEUR
DESCRIPTION:71320 CUZY
URL:https://www.alsoni.fr/event/portes-ouvertes-gaec-de-bucheleur/
CATEGORIES:PORTES OUVERTES
END:VEVENT
END:VCALENDAR