BEGIN:VCALENDAR
VERSION:2.0
PRODID:-//ALSONI - Conseil Élevage - ECPv6.15.20//NONSGML v1.0//EN
CALSCALE:GREGORIAN
METHOD:PUBLISH
X-WR-CALNAME:ALSONI - Conseil Élevage
X-ORIGINAL-URL:https://www.alsoni.fr
X-WR-CALDESC:Évènements pour ALSONI - Conseil Élevage
REFRESH-INTERVAL;VALUE=DURATION:PT1H
X-Robots-Tag:noindex
X-PUBLISHED-TTL:PT1H
BEGIN:VTIMEZONE
TZID:Europe/Paris
BEGIN:DAYLIGHT
TZOFFSETFROM:+0100
TZOFFSETTO:+0200
TZNAME:CEST
DTSTART:20240331T010000
END:DAYLIGHT
BEGIN:STANDARD
TZOFFSETFROM:+0200
TZOFFSETTO:+0100
TZNAME:CET
DTSTART:20241027T010000
END:STANDARD
BEGIN:DAYLIGHT
TZOFFSETFROM:+0100
TZOFFSETTO:+0200
TZNAME:CEST
DTSTART:20250330T010000
END:DAYLIGHT
BEGIN:STANDARD
TZOFFSETFROM:+0200
TZOFFSETTO:+0100
TZNAME:CET
DTSTART:20251026T010000
END:STANDARD
BEGIN:DAYLIGHT
TZOFFSETFROM:+0100
TZOFFSETTO:+0200
TZNAME:CEST
DTSTART:20260329T010000
END:DAYLIGHT
BEGIN:STANDARD
TZOFFSETFROM:+0200
TZOFFSETTO:+0100
TZNAME:CET
DTSTART:20261025T010000
END:STANDARD
END:VTIMEZONE
BEGIN:VEVENT
DTSTART;VALUE=DATE:20250903
DTEND;VALUE=DATE:20250904
DTSTAMP:20260422T085028
CREATED:20250604T073838Z
LAST-MODIFIED:20250604T073838Z
UID:3432-1756857600-1756943999@www.alsoni.fr
SUMMARY:Concours National Veaux HBC et vente aux enchères
DESCRIPTION:58 – MAGNYCOURS
URL:https://www.alsoni.fr/event/concours-national-veaux-hbc-et-vente-aux-encheres/
CATEGORIES:CONCOURS
END:VEVENT
BEGIN:VEVENT
DTSTART;VALUE=DATE:20250905
DTEND;VALUE=DATE:20250907
DTSTAMP:20260422T085028
CREATED:20250604T074053Z
LAST-MODIFIED:20250604T074131Z
UID:3434-1757030400-1757203199@www.alsoni.fr
SUMMARY:Concours non reconnu
DESCRIPTION:71 – DIGOIN
URL:https://www.alsoni.fr/event/concours-non-reconnu71-digoin/
CATEGORIES:CONCOURS
END:VEVENT
BEGIN:VEVENT
DTSTART;VALUE=DATE:20250913
DTEND;VALUE=DATE:20250915
DTSTAMP:20260422T085028
CREATED:20250604T130933Z
LAST-MODIFIED:20250604T131000Z
UID:3441-1757721600-1757894399@www.alsoni.fr
SUMMARY:Concours - Foire de Beaucroissant
DESCRIPTION:38 BEAUCROISSANT
URL:https://www.alsoni.fr/event/concours-foire-de-beaucroissant-2/
CATEGORIES:CONCOURS
END:VEVENT
BEGIN:VEVENT
DTSTART;VALUE=DATE:20250920
DTEND;VALUE=DATE:20250921
DTSTAMP:20260422T085028
CREATED:20250604T131111Z
LAST-MODIFIED:20250604T131111Z
UID:3443-1758326400-1758412799@www.alsoni.fr
SUMMARY:Concours charolais HBC - Autun
DESCRIPTION:71 AUTUN
URL:https://www.alsoni.fr/event/concours-charolais-hbc-autun/
CATEGORIES:CONCOURS
END:VEVENT
BEGIN:VEVENT
DTSTART;TZID=Europe/Paris:20250921T080000
DTEND;TZID=Europe/Paris:20250921T170000
DTSTAMP:20260422T085028
CREATED:20250604T131219Z
LAST-MODIFIED:20250604T131219Z
UID:3445-1758441600-1758474000@www.alsoni.fr
SUMMARY:Concours non reconnu - Toulon sur Arroux
DESCRIPTION:71 TOULON SUR ARROUX
URL:https://www.alsoni.fr/event/concours-non-reconnu-toulon-sur-arroux/
CATEGORIES:CONCOURS
END:VEVENT
END:VCALENDAR