BEGIN:VCALENDAR
VERSION:2.0
PRODID:-//ALSONI - Conseil Élevage - ECPv6.15.20//NONSGML v1.0//EN
CALSCALE:GREGORIAN
METHOD:PUBLISH
X-WR-CALNAME:ALSONI - Conseil Élevage
X-ORIGINAL-URL:https://www.alsoni.fr
X-WR-CALDESC:Évènements pour ALSONI - Conseil Élevage
REFRESH-INTERVAL;VALUE=DURATION:PT1H
X-Robots-Tag:noindex
X-PUBLISHED-TTL:PT1H
BEGIN:VTIMEZONE
TZID:Europe/Paris
BEGIN:DAYLIGHT
TZOFFSETFROM:+0100
TZOFFSETTO:+0200
TZNAME:CEST
DTSTART:20240331T010000
END:DAYLIGHT
BEGIN:STANDARD
TZOFFSETFROM:+0200
TZOFFSETTO:+0100
TZNAME:CET
DTSTART:20241027T010000
END:STANDARD
BEGIN:DAYLIGHT
TZOFFSETFROM:+0100
TZOFFSETTO:+0200
TZNAME:CEST
DTSTART:20250330T010000
END:DAYLIGHT
BEGIN:STANDARD
TZOFFSETFROM:+0200
TZOFFSETTO:+0100
TZNAME:CET
DTSTART:20251026T010000
END:STANDARD
BEGIN:DAYLIGHT
TZOFFSETFROM:+0100
TZOFFSETTO:+0200
TZNAME:CEST
DTSTART:20260329T010000
END:DAYLIGHT
BEGIN:STANDARD
TZOFFSETFROM:+0200
TZOFFSETTO:+0100
TZNAME:CET
DTSTART:20261025T010000
END:STANDARD
END:VTIMEZONE
BEGIN:VEVENT
DTSTART;VALUE=DATE:20250903
DTEND;VALUE=DATE:20250904
DTSTAMP:20260421T131459
CREATED:20250604T073838Z
LAST-MODIFIED:20250604T073838Z
UID:3432-1756857600-1756943999@www.alsoni.fr
SUMMARY:Concours National Veaux HBC et vente aux enchères
DESCRIPTION:58 – MAGNYCOURS
URL:https://www.alsoni.fr/event/concours-national-veaux-hbc-et-vente-aux-encheres/
CATEGORIES:CONCOURS
END:VEVENT
BEGIN:VEVENT
DTSTART;VALUE=DATE:20250905
DTEND;VALUE=DATE:20250907
DTSTAMP:20260421T131459
CREATED:20250605T091312Z
LAST-MODIFIED:20250605T091718Z
UID:3476-1757030400-1757203199@www.alsoni.fr
SUMMARY:Portes Ouvertes - GAEC CORE DOYON
DESCRIPTION:03250 NIZEROLLES
URL:https://www.alsoni.fr/event/portes-ouvertes-gaec-core-doyon/
CATEGORIES:PORTES OUVERTES
END:VEVENT
BEGIN:VEVENT
DTSTART;VALUE=DATE:20250905
DTEND;VALUE=DATE:20250907
DTSTAMP:20260421T131459
CREATED:20250605T091443Z
LAST-MODIFIED:20250605T091952Z
UID:3478-1757030400-1757203199@www.alsoni.fr
SUMMARY:Portes Ouvertes - Eric FÈVRE
DESCRIPTION:71330 BOUHANS
URL:https://www.alsoni.fr/event/portes-ouvertes-eric-fevre/
CATEGORIES:PORTES OUVERTES
END:VEVENT
BEGIN:VEVENT
DTSTART;VALUE=DATE:20250905
DTEND;VALUE=DATE:20250907
DTSTAMP:20260421T131459
CREATED:20250604T074053Z
LAST-MODIFIED:20250604T074131Z
UID:3434-1757030400-1757203199@www.alsoni.fr
SUMMARY:Concours non reconnu
DESCRIPTION:71 – DIGOIN
URL:https://www.alsoni.fr/event/concours-non-reconnu71-digoin/
CATEGORIES:CONCOURS
END:VEVENT
BEGIN:VEVENT
DTSTART;VALUE=DATE:20250905
DTEND;VALUE=DATE:20250907
DTSTAMP:20260421T131459
CREATED:20250605T091824Z
LAST-MODIFIED:20250605T091824Z
UID:3482-1757030400-1757203199@www.alsoni.fr
SUMMARY:Portes Ouvertes - SCEA DES CHAPUIS
DESCRIPTION:71320 CUZY
URL:https://www.alsoni.fr/event/portes-ouvertes-scea-des-chapuis/
CATEGORIES:PORTES OUVERTES
END:VEVENT
BEGIN:VEVENT
DTSTART;VALUE=DATE:20250905
DTEND;VALUE=DATE:20250907
DTSTAMP:20260421T131459
CREATED:20250605T092116Z
LAST-MODIFIED:20250605T092116Z
UID:3484-1757030400-1757203199@www.alsoni.fr
SUMMARY:Portes Ouvertes - GAEC LEBEAULT PÈRE ET FILS
DESCRIPTION:71490 SAINT GERVAIS SUR COUCHES
URL:https://www.alsoni.fr/event/portes-ouvertes-gaec-lebeault-pere-et-fils/
CATEGORIES:PORTES OUVERTES
END:VEVENT
BEGIN:VEVENT
DTSTART;VALUE=DATE:20250905
DTEND;VALUE=DATE:20250908
DTSTAMP:20260421T131459
CREATED:20250605T092233Z
LAST-MODIFIED:20250605T092233Z
UID:3486-1757030400-1757289599@www.alsoni.fr
SUMMARY:Portes Ouvertes - EARL DU GRAND MONETOIS
DESCRIPTION:71210 ECUISSES
URL:https://www.alsoni.fr/event/portes-ouvertes-earl-du-grand-monetois-2/
CATEGORIES:PORTES OUVERTES
END:VEVENT
BEGIN:VEVENT
DTSTART;VALUE=DATE:20250906
DTEND;VALUE=DATE:20250908
DTSTAMP:20260421T131459
CREATED:20250605T092514Z
LAST-MODIFIED:20250605T092609Z
UID:3488-1757116800-1757289599@www.alsoni.fr
SUMMARY:Portes Ouvertes - ROLLET YVES
DESCRIPTION:71340 CHENAY LE CHATEL
URL:https://www.alsoni.fr/event/portes-ouvertes-rollet-yves-2/
CATEGORIES:PORTES OUVERTES
END:VEVENT
BEGIN:VEVENT
DTSTART;VALUE=DATE:20250912
DTEND;VALUE=DATE:20250913
DTSTAMP:20260421T131459
CREATED:20250605T092719Z
LAST-MODIFIED:20250605T092719Z
UID:3490-1757635200-1757721599@www.alsoni.fr
SUMMARY:Portes Ouvertes - FASSIER VALENTIN
DESCRIPTION:58470 GIMOUILLE
URL:https://www.alsoni.fr/event/portes-ouvertes-fassier-valentin-2/
CATEGORIES:PORTES OUVERTES
END:VEVENT
BEGIN:VEVENT
DTSTART;VALUE=DATE:20250912
DTEND;VALUE=DATE:20250914
DTSTAMP:20260421T131459
CREATED:20250605T092922Z
LAST-MODIFIED:20250605T092922Z
UID:3492-1757635200-1757807999@www.alsoni.fr
SUMMARY:Portes Ouvertes - GAEC TOUILLON MOIRON
DESCRIPTION:58300 DECIZE
URL:https://www.alsoni.fr/event/portes-ouvertes-gaec-touillon-moiron-2/
CATEGORIES:PORTES OUVERTES
END:VEVENT
BEGIN:VEVENT
DTSTART;VALUE=DATE:20250912
DTEND;VALUE=DATE:20250914
DTSTAMP:20260421T131459
CREATED:20250605T093029Z
LAST-MODIFIED:20250605T093029Z
UID:3494-1757635200-1757807999@www.alsoni.fr
SUMMARY:Portes Ouvertes - EARL COMAILLE MD
DESCRIPTION:58300 DECIZE
URL:https://www.alsoni.fr/event/portes-ouvertes-earl-comaille-md/
CATEGORIES:PORTES OUVERTES
END:VEVENT
BEGIN:VEVENT
DTSTART;VALUE=DATE:20250912
DTEND;VALUE=DATE:20250914
DTSTAMP:20260421T131459
CREATED:20250605T093125Z
LAST-MODIFIED:20250605T093125Z
UID:3496-1757635200-1757807999@www.alsoni.fr
SUMMARY:Portes Ouvertes - GAEC SAVRE
DESCRIPTION:58300 TOURY LURCY
URL:https://www.alsoni.fr/event/portes-ouvertes-gaec-savre-2/
CATEGORIES:PORTES OUVERTES
END:VEVENT
BEGIN:VEVENT
DTSTART;VALUE=DATE:20250913
DTEND;VALUE=DATE:20250915
DTSTAMP:20260421T131459
CREATED:20250604T130933Z
LAST-MODIFIED:20250604T131000Z
UID:3441-1757721600-1757894399@www.alsoni.fr
SUMMARY:Concours - Foire de Beaucroissant
DESCRIPTION:38 BEAUCROISSANT
URL:https://www.alsoni.fr/event/concours-foire-de-beaucroissant-2/
CATEGORIES:CONCOURS
END:VEVENT
BEGIN:VEVENT
DTSTART;VALUE=DATE:20250917
DTEND;VALUE=DATE:20250918
DTSTAMP:20260421T131459
CREATED:20250604T074239Z
LAST-MODIFIED:20250604T074256Z
UID:3437-1758067200-1758153599@www.alsoni.fr
SUMMARY:Vente aux enchères Moulins
DESCRIPTION:03 – MOULINS
URL:https://www.alsoni.fr/event/vente-aux-encheres/
END:VEVENT
BEGIN:VEVENT
DTSTART;VALUE=DATE:20250919
DTEND;VALUE=DATE:20250921
DTSTAMP:20260421T131459
CREATED:20250605T093425Z
LAST-MODIFIED:20250605T093425Z
UID:3500-1758240000-1758412799@www.alsoni.fr
SUMMARY:Portes Ouvertes - GAEC STAR 2000
DESCRIPTION:71760 ISSY L’ÉVÈQUE
URL:https://www.alsoni.fr/event/portes-ouvertes-gaec-star-2000-2/
CATEGORIES:PORTES OUVERTES
END:VEVENT
BEGIN:VEVENT
DTSTART;VALUE=DATE:20250919
DTEND;VALUE=DATE:20250922
DTSTAMP:20260421T131459
CREATED:20250605T093304Z
LAST-MODIFIED:20250605T093304Z
UID:3498-1758240000-1758499199@www.alsoni.fr
SUMMARY:Portes Ouvertes - EARL BAUDIN SOPHIE ET FRANÇOIS
DESCRIPTION:71760 ISSY L’ÉVÈQUE
URL:https://www.alsoni.fr/event/portes-ouvertes-earl-baudin-sophie-et-francois/
CATEGORIES:PORTES OUVERTES
END:VEVENT
BEGIN:VEVENT
DTSTART;VALUE=DATE:20250920
DTEND;VALUE=DATE:20250921
DTSTAMP:20260421T131459
CREATED:20250604T131111Z
LAST-MODIFIED:20250604T131111Z
UID:3443-1758326400-1758412799@www.alsoni.fr
SUMMARY:Concours charolais HBC - Autun
DESCRIPTION:71 AUTUN
URL:https://www.alsoni.fr/event/concours-charolais-hbc-autun/
CATEGORIES:CONCOURS
END:VEVENT
BEGIN:VEVENT
DTSTART;TZID=Europe/Paris:20250921T080000
DTEND;TZID=Europe/Paris:20250921T170000
DTSTAMP:20260421T131459
CREATED:20250604T131219Z
LAST-MODIFIED:20250604T131219Z
UID:3445-1758441600-1758474000@www.alsoni.fr
SUMMARY:Concours non reconnu - Toulon sur Arroux
DESCRIPTION:71 TOULON SUR ARROUX
URL:https://www.alsoni.fr/event/concours-non-reconnu-toulon-sur-arroux/
CATEGORIES:CONCOURS
END:VEVENT
BEGIN:VEVENT
DTSTART;VALUE=DATE:20250924
DTEND;VALUE=DATE:20250925
DTSTAMP:20260421T131459
CREATED:20250604T131306Z
LAST-MODIFIED:20250604T131306Z
UID:3447-1758672000-1758758399@www.alsoni.fr
SUMMARY:Ventes aux enchères - CHAROLLES
DESCRIPTION:71 CHAROLLES
URL:https://www.alsoni.fr/event/ventes-aux-encheres-charolles/
END:VEVENT
BEGIN:VEVENT
DTSTART;VALUE=DATE:20250926
DTEND;VALUE=DATE:20250928
DTSTAMP:20260421T131459
CREATED:20250605T093526Z
LAST-MODIFIED:20250605T093526Z
UID:3502-1758844800-1759017599@www.alsoni.fr
SUMMARY:Portes Ouvertes - GAEC BLANDIN CURY
DESCRIPTION:03220 VAUMAS
URL:https://www.alsoni.fr/event/portes-ouvertes-gaec-blandin-cury/
CATEGORIES:PORTES OUVERTES
END:VEVENT
BEGIN:VEVENT
DTSTART;VALUE=DATE:20250926
DTEND;VALUE=DATE:20250928
DTSTAMP:20260421T131459
CREATED:20250605T093741Z
LAST-MODIFIED:20250605T093741Z
UID:3504-1758844800-1759017599@www.alsoni.fr
SUMMARY:Portes Ouvertes - EARL ALEXANDRE
DESCRIPTION:03230 PARAY LE FRESIL
URL:https://www.alsoni.fr/event/portes-ouvertes-earl-alexandre/
CATEGORIES:PORTES OUVERTES
END:VEVENT
BEGIN:VEVENT
DTSTART;VALUE=DATE:20250926
DTEND;VALUE=DATE:20250928
DTSTAMP:20260421T131459
CREATED:20250605T093853Z
LAST-MODIFIED:20250605T093853Z
UID:3506-1758844800-1759017599@www.alsoni.fr
SUMMARY:Portes Ouvertes - BILLAUT CÉDRIC
DESCRIPTION:71760 ISSY L’ÉVÈQUE
URL:https://www.alsoni.fr/event/portes-ouvertes-billaut-cedric/
CATEGORIES:PORTES OUVERTES
END:VEVENT
BEGIN:VEVENT
DTSTART;VALUE=DATE:20250926
DTEND;VALUE=DATE:20250928
DTSTAMP:20260421T131459
CREATED:20250605T093948Z
LAST-MODIFIED:20250605T093948Z
UID:3508-1758844800-1759017599@www.alsoni.fr
SUMMARY:Portes Ouvertes - GAEC GAUDET FABIEN ET ANTHONY
DESCRIPTION:71420 MARLY SUR ARROUX
URL:https://www.alsoni.fr/event/portes-ouvertes-gaec-gaudet-fabien-et-anthony/
CATEGORIES:PORTES OUVERTES
END:VEVENT
BEGIN:VEVENT
DTSTART;VALUE=DATE:20250926
DTEND;VALUE=DATE:20250928
DTSTAMP:20260421T131459
CREATED:20250605T094041Z
LAST-MODIFIED:20250605T094041Z
UID:3510-1758844800-1759017599@www.alsoni.fr
SUMMARY:Portes Ouvertes - GAEC PORNON PÈRE ET FILS
DESCRIPTION:71120 VIRY
URL:https://www.alsoni.fr/event/portes-ouvertes-gaec-pornon-pere-et-fils/
CATEGORIES:PORTES OUVERTES
END:VEVENT
BEGIN:VEVENT
DTSTART;VALUE=DATE:20250926
DTEND;VALUE=DATE:20250929
DTSTAMP:20260421T131459
CREATED:20250605T094147Z
LAST-MODIFIED:20250605T094147Z
UID:3512-1758844800-1759103999@www.alsoni.fr
SUMMARY:Portes Ouvertes - EARL FERME DE LA LIMAYE
DESCRIPTION:71130 NEUVY GRANDCHAMP
URL:https://www.alsoni.fr/event/portes-ouvertes-earl-ferme-de-la-limaye/
CATEGORIES:PORTES OUVERTES
END:VEVENT
BEGIN:VEVENT
DTSTART;VALUE=DATE:20250926
DTEND;VALUE=DATE:20250929
DTSTAMP:20260421T131459
CREATED:20250605T094333Z
LAST-MODIFIED:20250605T094333Z
UID:3514-1758844800-1759103999@www.alsoni.fr
SUMMARY:Portes Ouvertes - EARL MARECHAL KEVIN
DESCRIPTION:71320 TOULON SUR ARROUX
URL:https://www.alsoni.fr/event/portes-ouvertes-earl-marechal-kevin-2/
CATEGORIES:PORTES OUVERTES
END:VEVENT
END:VCALENDAR